BEGIN:VCALENDAR
VERSION:2.0
METHOD:PUBLISH
PRODID:-//Causal Sarl//LionsBase Calendar 5.0.x-dev//DE
TZID:Europe/Zurich
BEGIN:VEVENT
UID:32503_20260513@wien-kahlenberg-laudon.lions.at
DTSTAMP:20260425T105727Z
DTSTART:20260513T170000Z
DTEND:20260513T190000Z
ORGANIZER:LC Wien FOCUS intern
LOCATION:Kein & Low\, Kaiserstraße 86\, 1070 Wien
SUMMARY:13. Clubabend - "HOW TO GET INTO THE NO/LOW"
DESCRIPTION:Kein Sekt. Kein Wein. Keine Promille. Und genau 
 deshalb so spannend. \n\nWir testen diesmal eine neue Getränkewelt: 
 alkoholfrei und low alcohol - aber mit Anspruch. Was steckt 
 dahinter? Ist das nur Hype - oder wirklich gut? Und: schmeck
 t das auch? \n\nBeim UNBESCHWIPST-Tasting probieren wir uns 
 durch sechs Drinks\, die klar zeigen: alkoholfrei kann mehr 
 - neue Aromen\, neue Ideen\, neue Einsatzmöglichkeiten.  \n\nKurz gesagt: 
 wir finden gemeinsam heraus\, ob das nur ein Trend ist\, ode
 r wirklich gut. Dazu gibt's Brötchen  mit vegetarischen Aufs
 trichen. \n\nNeugierig? Dann gleich anmelden und ausprobieren! \n\nDauer:
  ca. 1\,5 Stunden \n\nKosten: € 39/Person\; der Club übernim
 mt € 10/Person
END:VEVENT
END:VCALENDAR
